BEGIN:VCALENDAR
VERSION:2.0
PRODID:-//MACAE - ECPv6.15.18//NONSGML v1.0//EN
CALSCALE:GREGORIAN
METHOD:PUBLISH
X-WR-CALNAME:MACAE
X-ORIGINAL-URL:https://macae.org
X-WR-CALDESC:Events for MACAE
REFRESH-INTERVAL;VALUE=DURATION:PT1H
X-Robots-Tag:noindex
X-PUBLISHED-TTL:PT1H
BEGIN:VTIMEZONE
TZID:UTC
BEGIN:STANDARD
TZOFFSETFROM:+0000
TZOFFSETTO:+0000
TZNAME:UTC
DTSTART:20240101T000000
END:STANDARD
END:VTIMEZONE
BEGIN:VEVENT
DTSTART;TZID=UTC:20250915T140000
DTEND;TZID=UTC:20250915T150000
DTSTAMP:20260419T165745
CREATED:20250108T134014Z
LAST-MODIFIED:20250808T193509Z
UID:753-1757944800-1757948400@macae.org
SUMMARY:ABE/Literacy Committee
DESCRIPTION:Contact Michael Evans at mevans@kalamazooliteracy.org for more information.
URL:https://macae.org/event/abe-literacy-committee-9/
LOCATION:Virtual
ATTACH;FMTTYPE=image/jpeg:https://macae.org/wp-content/uploads/2025/01/literacy-cover-image.jpg
END:VEVENT
BEGIN:VEVENT
DTSTART;TZID=UTC:20250926T110000
DTEND;TZID=UTC:20250926T120000
DTSTAMP:20260419T165745
CREATED:20250107T220556Z
LAST-MODIFIED:20250808T194159Z
UID:730-1758884400-1758888000@macae.org
SUMMARY:Digital Literacy Committee
DESCRIPTION:Contact Jessi Pavey at jpavey@kalamazooliteracy.org for more information.
URL:https://macae.org/event/digital-literacy-committee-5/
LOCATION:Virtual
ATTACH;FMTTYPE=image/jpeg:https://macae.org/wp-content/uploads/2025/01/digital-literacy-cover-image-1.jpg
END:VEVENT
END:VCALENDAR