BEGIN:VCALENDAR
VERSION:2.0
PRODID:-//MACAE - ECPv6.15.18//NONSGML v1.0//EN
CALSCALE:GREGORIAN
METHOD:PUBLISH
X-WR-CALNAME:MACAE
X-ORIGINAL-URL:https://macae.org
X-WR-CALDESC:Events for MACAE
REFRESH-INTERVAL;VALUE=DURATION:PT1H
X-Robots-Tag:noindex
X-PUBLISHED-TTL:PT1H
BEGIN:VTIMEZONE
TZID:UTC
BEGIN:STANDARD
TZOFFSETFROM:+0000
TZOFFSETTO:+0000
TZNAME:UTC
DTSTART:20240101T000000
END:STANDARD
END:VTIMEZONE
BEGIN:VEVENT
DTSTART;TZID=UTC:20251212T080000
DTEND;TZID=UTC:20251212T170000
DTSTAMP:20260419T122410
CREATED:20251212T162539Z
LAST-MODIFIED:20251212T162539Z
UID:1052-1765526400-1765558800@macae.org
SUMMARY:Webinar: "Supporting Adult Learners Through Testing Anxiety: Practical Strategies for Educators"
DESCRIPTION:MACAE is hosting a webinar titled “Supporting Adult Learners Through Testing Anxiety: Practical Strategies for Educators” on Tuesday\, December 16 from 1 to 2 p.m. via Zoom. \nThis presentation will provide educators with strategies for noticing\, understanding\, and navigating test anxiety with a specific focus on supporting adult learners. Participants will learn what symptoms to watch for and how testing anxiety may present inside and outside of the classroom. Participants will also learn strategies for incorporating mental wellness into classroom exercises and routines as well as practical strategies that students can use to manage test anxiety both in preparation for the test and on the testing day. \nRegister now: https://members.macae.org/ap/Events/Register/AnFmBwvCVCdCN
URL:https://macae.org/event/webinar-supporting-adult-learners-through-testing-anxiety-practical-strategies-for-educators/
LOCATION:MI
END:VEVENT
BEGIN:VEVENT
DTSTART;TZID=UTC:20251215T140000
DTEND;TZID=UTC:20251215T150000
DTSTAMP:20260419T122410
CREATED:20250108T134238Z
LAST-MODIFIED:20250808T193317Z
UID:759-1765807200-1765810800@macae.org
SUMMARY:ABE/Literacy Committee
DESCRIPTION:Contact Michael Evans at mevans@kalamazooliteracy.org for more information.
URL:https://macae.org/event/abe-literacy-committee-12/
LOCATION:Virtual
ATTACH;FMTTYPE=image/jpeg:https://macae.org/wp-content/uploads/2025/01/literacy-cover-image.jpg
END:VEVENT
END:VCALENDAR